BEGIN:VCALENDAR
VERSION:2.0
PRODID:-//Wyoming Yarn &amp; Fiber - ECPv6.15.20//NONSGML v1.0//EN
CALSCALE:GREGORIAN
METHOD:PUBLISH
X-ORIGINAL-URL:https://www.wyomingyarn.com
X-WR-CALDESC:Events for Wyoming Yarn &amp; Fiber
REFRESH-INTERVAL;VALUE=DURATION:PT1H
X-Robots-Tag:noindex
X-PUBLISHED-TTL:PT1H
BEGIN:VTIMEZONE
TZID:America/Denver
BEGIN:DAYLIGHT
TZOFFSETFROM:-0700
TZOFFSETTO:-0600
TZNAME:MDT
DTSTART:20250309T090000
END:DAYLIGHT
BEGIN:STANDARD
TZOFFSETFROM:-0600
TZOFFSETTO:-0700
TZNAME:MST
DTSTART:20251102T080000
END:STANDARD
BEGIN:DAYLIGHT
TZOFFSETFROM:-0700
TZOFFSETTO:-0600
TZNAME:MDT
DTSTART:20260308T090000
END:DAYLIGHT
BEGIN:STANDARD
TZOFFSETFROM:-0600
TZOFFSETTO:-0700
TZNAME:MST
DTSTART:20261101T080000
END:STANDARD
BEGIN:DAYLIGHT
TZOFFSETFROM:-0700
TZOFFSETTO:-0600
TZNAME:MDT
DTSTART:20270314T090000
END:DAYLIGHT
BEGIN:STANDARD
TZOFFSETFROM:-0600
TZOFFSETTO:-0700
TZNAME:MST
DTSTART:20271107T080000
END:STANDARD
END:VTIMEZONE
BEGIN:VEVENT
DTSTART;TZID=America/Denver:20260316T130000
DTEND;TZID=America/Denver:20260316T150000
DTSTAMP:20260424T035303
CREATED:20260220T214822Z
LAST-MODIFIED:20260220T214945Z
UID:10001256-1773666000-1773673200@www.wyomingyarn.com
SUMMARY:Begin Crochet- Granny Square
DESCRIPTION:They are trendy again and in so many new ways!  Learn the basics of how to construct granny squares and projects you can use them in.\nAges 10 and up are welcome! \nDATE/TIME: March 16\, 2026; 1-3pm\nClass includes: Basic stitches (chain\, single crochet\, double crochet)\nMaterials provided by student (the shop can help you find these): \n\nWorsted-weight yarn \nSize H (5mm) crochet hook\n\nSign up for the class here
URL:https://www.wyomingyarn.com/event/begin-crochet-granny-square/
LOCATION:Wyoming Yarn & Fiber\, 901 16th St\, Cody\, WY\, 82414\, United States
CATEGORIES:Class
ATTACH;FMTTYPE=image/png:https://www.wyomingyarn.com/wp-content/uploads/2024/01/Granny-Squares.png
END:VEVENT
END:VCALENDAR