BEGIN:VCALENDAR
VERSION:2.0
PRODID:-//Wyoming Yarn &amp; Fiber - ECPv6.15.20//NONSGML v1.0//EN
CALSCALE:GREGORIAN
METHOD:PUBLISH
X-ORIGINAL-URL:https://www.wyomingyarn.com
X-WR-CALDESC:Events for Wyoming Yarn &amp; Fiber
REFRESH-INTERVAL;VALUE=DURATION:PT1H
X-Robots-Tag:noindex
X-PUBLISHED-TTL:PT1H
BEGIN:VTIMEZONE
TZID:America/Denver
BEGIN:DAYLIGHT
TZOFFSETFROM:-0700
TZOFFSETTO:-0600
TZNAME:MDT
DTSTART:20260308T090000
END:DAYLIGHT
BEGIN:STANDARD
TZOFFSETFROM:-0600
TZOFFSETTO:-0700
TZNAME:MST
DTSTART:20261101T080000
END:STANDARD
BEGIN:DAYLIGHT
TZOFFSETFROM:-0700
TZOFFSETTO:-0600
TZNAME:MDT
DTSTART:20270314T090000
END:DAYLIGHT
BEGIN:STANDARD
TZOFFSETFROM:-0600
TZOFFSETTO:-0700
TZNAME:MST
DTSTART:20271107T080000
END:STANDARD
BEGIN:DAYLIGHT
TZOFFSETFROM:-0700
TZOFFSETTO:-0600
TZNAME:MDT
DTSTART:20280312T090000
END:DAYLIGHT
BEGIN:STANDARD
TZOFFSETFROM:-0600
TZOFFSETTO:-0700
TZNAME:MST
DTSTART:20281105T080000
END:STANDARD
END:VTIMEZONE
BEGIN:VEVENT
DTSTART;TZID=America/Denver:20270423T130000
DTEND;TZID=America/Denver:20270423T150000
DTSTAMP:20260419T162636
CREATED:20220903T005740Z
LAST-MODIFIED:20240112T173801Z
UID:10000711-1808485200-1808492400@www.wyomingyarn.com
SUMMARY:Oddballs & Skeins
DESCRIPTION:A free event every Friday where you can bring your projects in and work while chatting with other yarnie friends.  This is an open crafting group that loves to visit about current WIPs (works in progress) as well as show off FOs (Finished Objects).  All crafty types are welcome.  Join us soon!
URL:https://www.wyomingyarn.com/event/knit-group/2027-04-23/
LOCATION:Wyoming Yarn & Fiber\, 901 16th St\, Cody\, WY\, 82414\, United States
CATEGORIES:Gathering
ATTACH;FMTTYPE=image/png:https://www.wyomingyarn.com/wp-content/uploads/2022/09/Oddballs-Skeins.png
ORGANIZER;CN="Wyoming Yarn & Fiber":MAILTO:hello@wyomingyarn.com
END:VEVENT
BEGIN:VEVENT
DTSTART;TZID=America/Denver:20270430T130000
DTEND;TZID=America/Denver:20270430T150000
DTSTAMP:20260419T162636
CREATED:20220903T005740Z
LAST-MODIFIED:20240112T173801Z
UID:10000712-1809090000-1809097200@www.wyomingyarn.com
SUMMARY:Oddballs & Skeins
DESCRIPTION:A free event every Friday where you can bring your projects in and work while chatting with other yarnie friends.  This is an open crafting group that loves to visit about current WIPs (works in progress) as well as show off FOs (Finished Objects).  All crafty types are welcome.  Join us soon!
URL:https://www.wyomingyarn.com/event/knit-group/2027-04-30/
LOCATION:Wyoming Yarn & Fiber\, 901 16th St\, Cody\, WY\, 82414\, United States
CATEGORIES:Gathering
ATTACH;FMTTYPE=image/png:https://www.wyomingyarn.com/wp-content/uploads/2022/09/Oddballs-Skeins.png
ORGANIZER;CN="Wyoming Yarn & Fiber":MAILTO:hello@wyomingyarn.com
END:VEVENT
BEGIN:VEVENT
DTSTART;TZID=America/Denver:20270507T130000
DTEND;TZID=America/Denver:20270507T150000
DTSTAMP:20260419T162636
CREATED:20220903T005740Z
LAST-MODIFIED:20240112T173801Z
UID:10000713-1809694800-1809702000@www.wyomingyarn.com
SUMMARY:Oddballs & Skeins
DESCRIPTION:A free event every Friday where you can bring your projects in and work while chatting with other yarnie friends.  This is an open crafting group that loves to visit about current WIPs (works in progress) as well as show off FOs (Finished Objects).  All crafty types are welcome.  Join us soon!
URL:https://www.wyomingyarn.com/event/knit-group/2027-05-07/
LOCATION:Wyoming Yarn & Fiber\, 901 16th St\, Cody\, WY\, 82414\, United States
CATEGORIES:Gathering
ATTACH;FMTTYPE=image/png:https://www.wyomingyarn.com/wp-content/uploads/2022/09/Oddballs-Skeins.png
ORGANIZER;CN="Wyoming Yarn & Fiber":MAILTO:hello@wyomingyarn.com
END:VEVENT
BEGIN:VEVENT
DTSTART;TZID=America/Denver:20270514T130000
DTEND;TZID=America/Denver:20270514T150000
DTSTAMP:20260419T162636
CREATED:20220903T005740Z
LAST-MODIFIED:20240112T173801Z
UID:10000714-1810299600-1810306800@www.wyomingyarn.com
SUMMARY:Oddballs & Skeins
DESCRIPTION:A free event every Friday where you can bring your projects in and work while chatting with other yarnie friends.  This is an open crafting group that loves to visit about current WIPs (works in progress) as well as show off FOs (Finished Objects).  All crafty types are welcome.  Join us soon!
URL:https://www.wyomingyarn.com/event/knit-group/2027-05-14/
LOCATION:Wyoming Yarn & Fiber\, 901 16th St\, Cody\, WY\, 82414\, United States
CATEGORIES:Gathering
ATTACH;FMTTYPE=image/png:https://www.wyomingyarn.com/wp-content/uploads/2022/09/Oddballs-Skeins.png
ORGANIZER;CN="Wyoming Yarn & Fiber":MAILTO:hello@wyomingyarn.com
END:VEVENT
BEGIN:VEVENT
DTSTART;TZID=America/Denver:20270521T130000
DTEND;TZID=America/Denver:20270521T150000
DTSTAMP:20260419T162636
CREATED:20220903T005740Z
LAST-MODIFIED:20240112T173801Z
UID:10000715-1810904400-1810911600@www.wyomingyarn.com
SUMMARY:Oddballs & Skeins
DESCRIPTION:A free event every Friday where you can bring your projects in and work while chatting with other yarnie friends.  This is an open crafting group that loves to visit about current WIPs (works in progress) as well as show off FOs (Finished Objects).  All crafty types are welcome.  Join us soon!
URL:https://www.wyomingyarn.com/event/knit-group/2027-05-21/
LOCATION:Wyoming Yarn & Fiber\, 901 16th St\, Cody\, WY\, 82414\, United States
CATEGORIES:Gathering
ATTACH;FMTTYPE=image/png:https://www.wyomingyarn.com/wp-content/uploads/2022/09/Oddballs-Skeins.png
ORGANIZER;CN="Wyoming Yarn & Fiber":MAILTO:hello@wyomingyarn.com
END:VEVENT
BEGIN:VEVENT
DTSTART;TZID=America/Denver:20270528T130000
DTEND;TZID=America/Denver:20270528T150000
DTSTAMP:20260419T162636
CREATED:20220903T005740Z
LAST-MODIFIED:20240112T173801Z
UID:10000716-1811509200-1811516400@www.wyomingyarn.com
SUMMARY:Oddballs & Skeins
DESCRIPTION:A free event every Friday where you can bring your projects in and work while chatting with other yarnie friends.  This is an open crafting group that loves to visit about current WIPs (works in progress) as well as show off FOs (Finished Objects).  All crafty types are welcome.  Join us soon!
URL:https://www.wyomingyarn.com/event/knit-group/2027-05-28/
LOCATION:Wyoming Yarn & Fiber\, 901 16th St\, Cody\, WY\, 82414\, United States
CATEGORIES:Gathering
ATTACH;FMTTYPE=image/png:https://www.wyomingyarn.com/wp-content/uploads/2022/09/Oddballs-Skeins.png
ORGANIZER;CN="Wyoming Yarn & Fiber":MAILTO:hello@wyomingyarn.com
END:VEVENT
BEGIN:VEVENT
DTSTART;TZID=America/Denver:20270604T130000
DTEND;TZID=America/Denver:20270604T150000
DTSTAMP:20260419T162636
CREATED:20220903T005740Z
LAST-MODIFIED:20240112T173801Z
UID:10000717-1812114000-1812121200@www.wyomingyarn.com
SUMMARY:Oddballs & Skeins
DESCRIPTION:A free event every Friday where you can bring your projects in and work while chatting with other yarnie friends.  This is an open crafting group that loves to visit about current WIPs (works in progress) as well as show off FOs (Finished Objects).  All crafty types are welcome.  Join us soon!
URL:https://www.wyomingyarn.com/event/knit-group/2027-06-04/
LOCATION:Wyoming Yarn & Fiber\, 901 16th St\, Cody\, WY\, 82414\, United States
CATEGORIES:Gathering
ATTACH;FMTTYPE=image/png:https://www.wyomingyarn.com/wp-content/uploads/2022/09/Oddballs-Skeins.png
ORGANIZER;CN="Wyoming Yarn & Fiber":MAILTO:hello@wyomingyarn.com
END:VEVENT
BEGIN:VEVENT
DTSTART;TZID=America/Denver:20270611T130000
DTEND;TZID=America/Denver:20270611T150000
DTSTAMP:20260419T162636
CREATED:20220903T005740Z
LAST-MODIFIED:20240112T173801Z
UID:10000718-1812718800-1812726000@www.wyomingyarn.com
SUMMARY:Oddballs & Skeins
DESCRIPTION:A free event every Friday where you can bring your projects in and work while chatting with other yarnie friends.  This is an open crafting group that loves to visit about current WIPs (works in progress) as well as show off FOs (Finished Objects).  All crafty types are welcome.  Join us soon!
URL:https://www.wyomingyarn.com/event/knit-group/2027-06-11/
LOCATION:Wyoming Yarn & Fiber\, 901 16th St\, Cody\, WY\, 82414\, United States
CATEGORIES:Gathering
ATTACH;FMTTYPE=image/png:https://www.wyomingyarn.com/wp-content/uploads/2022/09/Oddballs-Skeins.png
ORGANIZER;CN="Wyoming Yarn & Fiber":MAILTO:hello@wyomingyarn.com
END:VEVENT
BEGIN:VEVENT
DTSTART;TZID=America/Denver:20270618T130000
DTEND;TZID=America/Denver:20270618T150000
DTSTAMP:20260419T162636
CREATED:20220903T005740Z
LAST-MODIFIED:20240112T173801Z
UID:10000719-1813323600-1813330800@www.wyomingyarn.com
SUMMARY:Oddballs & Skeins
DESCRIPTION:A free event every Friday where you can bring your projects in and work while chatting with other yarnie friends.  This is an open crafting group that loves to visit about current WIPs (works in progress) as well as show off FOs (Finished Objects).  All crafty types are welcome.  Join us soon!
URL:https://www.wyomingyarn.com/event/knit-group/2027-06-18/
LOCATION:Wyoming Yarn & Fiber\, 901 16th St\, Cody\, WY\, 82414\, United States
CATEGORIES:Gathering
ATTACH;FMTTYPE=image/png:https://www.wyomingyarn.com/wp-content/uploads/2022/09/Oddballs-Skeins.png
ORGANIZER;CN="Wyoming Yarn & Fiber":MAILTO:hello@wyomingyarn.com
END:VEVENT
BEGIN:VEVENT
DTSTART;TZID=America/Denver:20270625T130000
DTEND;TZID=America/Denver:20270625T150000
DTSTAMP:20260419T162636
CREATED:20220903T005740Z
LAST-MODIFIED:20240112T173801Z
UID:10000720-1813928400-1813935600@www.wyomingyarn.com
SUMMARY:Oddballs & Skeins
DESCRIPTION:A free event every Friday where you can bring your projects in and work while chatting with other yarnie friends.  This is an open crafting group that loves to visit about current WIPs (works in progress) as well as show off FOs (Finished Objects).  All crafty types are welcome.  Join us soon!
URL:https://www.wyomingyarn.com/event/knit-group/2027-06-25/
LOCATION:Wyoming Yarn & Fiber\, 901 16th St\, Cody\, WY\, 82414\, United States
CATEGORIES:Gathering
ATTACH;FMTTYPE=image/png:https://www.wyomingyarn.com/wp-content/uploads/2022/09/Oddballs-Skeins.png
ORGANIZER;CN="Wyoming Yarn & Fiber":MAILTO:hello@wyomingyarn.com
END:VEVENT
BEGIN:VEVENT
DTSTART;TZID=America/Denver:20270702T130000
DTEND;TZID=America/Denver:20270702T150000
DTSTAMP:20260419T162636
CREATED:20220903T005740Z
LAST-MODIFIED:20240112T173801Z
UID:10000721-1814533200-1814540400@www.wyomingyarn.com
SUMMARY:Oddballs & Skeins
DESCRIPTION:A free event every Friday where you can bring your projects in and work while chatting with other yarnie friends.  This is an open crafting group that loves to visit about current WIPs (works in progress) as well as show off FOs (Finished Objects).  All crafty types are welcome.  Join us soon!
URL:https://www.wyomingyarn.com/event/knit-group/2027-07-02/
LOCATION:Wyoming Yarn & Fiber\, 901 16th St\, Cody\, WY\, 82414\, United States
CATEGORIES:Gathering
ATTACH;FMTTYPE=image/png:https://www.wyomingyarn.com/wp-content/uploads/2022/09/Oddballs-Skeins.png
ORGANIZER;CN="Wyoming Yarn & Fiber":MAILTO:hello@wyomingyarn.com
END:VEVENT
BEGIN:VEVENT
DTSTART;TZID=America/Denver:20270709T130000
DTEND;TZID=America/Denver:20270709T150000
DTSTAMP:20260419T162636
CREATED:20220903T005740Z
LAST-MODIFIED:20240112T173801Z
UID:10000722-1815138000-1815145200@www.wyomingyarn.com
SUMMARY:Oddballs & Skeins
DESCRIPTION:A free event every Friday where you can bring your projects in and work while chatting with other yarnie friends.  This is an open crafting group that loves to visit about current WIPs (works in progress) as well as show off FOs (Finished Objects).  All crafty types are welcome.  Join us soon!
URL:https://www.wyomingyarn.com/event/knit-group/2027-07-09/
LOCATION:Wyoming Yarn & Fiber\, 901 16th St\, Cody\, WY\, 82414\, United States
CATEGORIES:Gathering
ATTACH;FMTTYPE=image/png:https://www.wyomingyarn.com/wp-content/uploads/2022/09/Oddballs-Skeins.png
ORGANIZER;CN="Wyoming Yarn & Fiber":MAILTO:hello@wyomingyarn.com
END:VEVENT
BEGIN:VEVENT
DTSTART;TZID=America/Denver:20270716T130000
DTEND;TZID=America/Denver:20270716T150000
DTSTAMP:20260419T162636
CREATED:20220903T005740Z
LAST-MODIFIED:20240112T173801Z
UID:10000723-1815742800-1815750000@www.wyomingyarn.com
SUMMARY:Oddballs & Skeins
DESCRIPTION:A free event every Friday where you can bring your projects in and work while chatting with other yarnie friends.  This is an open crafting group that loves to visit about current WIPs (works in progress) as well as show off FOs (Finished Objects).  All crafty types are welcome.  Join us soon!
URL:https://www.wyomingyarn.com/event/knit-group/2027-07-16/
LOCATION:Wyoming Yarn & Fiber\, 901 16th St\, Cody\, WY\, 82414\, United States
CATEGORIES:Gathering
ATTACH;FMTTYPE=image/png:https://www.wyomingyarn.com/wp-content/uploads/2022/09/Oddballs-Skeins.png
ORGANIZER;CN="Wyoming Yarn & Fiber":MAILTO:hello@wyomingyarn.com
END:VEVENT
BEGIN:VEVENT
DTSTART;TZID=America/Denver:20270723T130000
DTEND;TZID=America/Denver:20270723T150000
DTSTAMP:20260419T162636
CREATED:20220903T005740Z
LAST-MODIFIED:20240112T173801Z
UID:10000724-1816347600-1816354800@www.wyomingyarn.com
SUMMARY:Oddballs & Skeins
DESCRIPTION:A free event every Friday where you can bring your projects in and work while chatting with other yarnie friends.  This is an open crafting group that loves to visit about current WIPs (works in progress) as well as show off FOs (Finished Objects).  All crafty types are welcome.  Join us soon!
URL:https://www.wyomingyarn.com/event/knit-group/2027-07-23/
LOCATION:Wyoming Yarn & Fiber\, 901 16th St\, Cody\, WY\, 82414\, United States
CATEGORIES:Gathering
ATTACH;FMTTYPE=image/png:https://www.wyomingyarn.com/wp-content/uploads/2022/09/Oddballs-Skeins.png
ORGANIZER;CN="Wyoming Yarn & Fiber":MAILTO:hello@wyomingyarn.com
END:VEVENT
BEGIN:VEVENT
DTSTART;TZID=America/Denver:20270730T130000
DTEND;TZID=America/Denver:20270730T150000
DTSTAMP:20260419T162636
CREATED:20220903T005740Z
LAST-MODIFIED:20240112T173801Z
UID:10000725-1816952400-1816959600@www.wyomingyarn.com
SUMMARY:Oddballs & Skeins
DESCRIPTION:A free event every Friday where you can bring your projects in and work while chatting with other yarnie friends.  This is an open crafting group that loves to visit about current WIPs (works in progress) as well as show off FOs (Finished Objects).  All crafty types are welcome.  Join us soon!
URL:https://www.wyomingyarn.com/event/knit-group/2027-07-30/
LOCATION:Wyoming Yarn & Fiber\, 901 16th St\, Cody\, WY\, 82414\, United States
CATEGORIES:Gathering
ATTACH;FMTTYPE=image/png:https://www.wyomingyarn.com/wp-content/uploads/2022/09/Oddballs-Skeins.png
ORGANIZER;CN="Wyoming Yarn & Fiber":MAILTO:hello@wyomingyarn.com
END:VEVENT
BEGIN:VEVENT
DTSTART;TZID=America/Denver:20270806T130000
DTEND;TZID=America/Denver:20270806T150000
DTSTAMP:20260419T162636
CREATED:20220903T005740Z
LAST-MODIFIED:20240112T173801Z
UID:10000726-1817557200-1817564400@www.wyomingyarn.com
SUMMARY:Oddballs & Skeins
DESCRIPTION:A free event every Friday where you can bring your projects in and work while chatting with other yarnie friends.  This is an open crafting group that loves to visit about current WIPs (works in progress) as well as show off FOs (Finished Objects).  All crafty types are welcome.  Join us soon!
URL:https://www.wyomingyarn.com/event/knit-group/2027-08-06/
LOCATION:Wyoming Yarn & Fiber\, 901 16th St\, Cody\, WY\, 82414\, United States
CATEGORIES:Gathering
ATTACH;FMTTYPE=image/png:https://www.wyomingyarn.com/wp-content/uploads/2022/09/Oddballs-Skeins.png
ORGANIZER;CN="Wyoming Yarn & Fiber":MAILTO:hello@wyomingyarn.com
END:VEVENT
BEGIN:VEVENT
DTSTART;TZID=America/Denver:20270813T130000
DTEND;TZID=America/Denver:20270813T150000
DTSTAMP:20260419T162636
CREATED:20220903T005740Z
LAST-MODIFIED:20240112T173801Z
UID:10000727-1818162000-1818169200@www.wyomingyarn.com
SUMMARY:Oddballs & Skeins
DESCRIPTION:A free event every Friday where you can bring your projects in and work while chatting with other yarnie friends.  This is an open crafting group that loves to visit about current WIPs (works in progress) as well as show off FOs (Finished Objects).  All crafty types are welcome.  Join us soon!
URL:https://www.wyomingyarn.com/event/knit-group/2027-08-13/
LOCATION:Wyoming Yarn & Fiber\, 901 16th St\, Cody\, WY\, 82414\, United States
CATEGORIES:Gathering
ATTACH;FMTTYPE=image/png:https://www.wyomingyarn.com/wp-content/uploads/2022/09/Oddballs-Skeins.png
ORGANIZER;CN="Wyoming Yarn & Fiber":MAILTO:hello@wyomingyarn.com
END:VEVENT
BEGIN:VEVENT
DTSTART;TZID=America/Denver:20270820T130000
DTEND;TZID=America/Denver:20270820T150000
DTSTAMP:20260419T162636
CREATED:20220903T005740Z
LAST-MODIFIED:20240112T173801Z
UID:10000728-1818766800-1818774000@www.wyomingyarn.com
SUMMARY:Oddballs & Skeins
DESCRIPTION:A free event every Friday where you can bring your projects in and work while chatting with other yarnie friends.  This is an open crafting group that loves to visit about current WIPs (works in progress) as well as show off FOs (Finished Objects).  All crafty types are welcome.  Join us soon!
URL:https://www.wyomingyarn.com/event/knit-group/2027-08-20/
LOCATION:Wyoming Yarn & Fiber\, 901 16th St\, Cody\, WY\, 82414\, United States
CATEGORIES:Gathering
ATTACH;FMTTYPE=image/png:https://www.wyomingyarn.com/wp-content/uploads/2022/09/Oddballs-Skeins.png
ORGANIZER;CN="Wyoming Yarn & Fiber":MAILTO:hello@wyomingyarn.com
END:VEVENT
BEGIN:VEVENT
DTSTART;TZID=America/Denver:20270827T130000
DTEND;TZID=America/Denver:20270827T150000
DTSTAMP:20260419T162636
CREATED:20220903T005740Z
LAST-MODIFIED:20240112T173801Z
UID:10000729-1819371600-1819378800@www.wyomingyarn.com
SUMMARY:Oddballs & Skeins
DESCRIPTION:A free event every Friday where you can bring your projects in and work while chatting with other yarnie friends.  This is an open crafting group that loves to visit about current WIPs (works in progress) as well as show off FOs (Finished Objects).  All crafty types are welcome.  Join us soon!
URL:https://www.wyomingyarn.com/event/knit-group/2027-08-27/
LOCATION:Wyoming Yarn & Fiber\, 901 16th St\, Cody\, WY\, 82414\, United States
CATEGORIES:Gathering
ATTACH;FMTTYPE=image/png:https://www.wyomingyarn.com/wp-content/uploads/2022/09/Oddballs-Skeins.png
ORGANIZER;CN="Wyoming Yarn & Fiber":MAILTO:hello@wyomingyarn.com
END:VEVENT
BEGIN:VEVENT
DTSTART;TZID=America/Denver:20270903T130000
DTEND;TZID=America/Denver:20270903T150000
DTSTAMP:20260419T162636
CREATED:20220903T005740Z
LAST-MODIFIED:20240112T173801Z
UID:10000730-1819976400-1819983600@www.wyomingyarn.com
SUMMARY:Oddballs & Skeins
DESCRIPTION:A free event every Friday where you can bring your projects in and work while chatting with other yarnie friends.  This is an open crafting group that loves to visit about current WIPs (works in progress) as well as show off FOs (Finished Objects).  All crafty types are welcome.  Join us soon!
URL:https://www.wyomingyarn.com/event/knit-group/2027-09-03/
LOCATION:Wyoming Yarn & Fiber\, 901 16th St\, Cody\, WY\, 82414\, United States
CATEGORIES:Gathering
ATTACH;FMTTYPE=image/png:https://www.wyomingyarn.com/wp-content/uploads/2022/09/Oddballs-Skeins.png
ORGANIZER;CN="Wyoming Yarn & Fiber":MAILTO:hello@wyomingyarn.com
END:VEVENT
BEGIN:VEVENT
DTSTART;TZID=America/Denver:20270910T130000
DTEND;TZID=America/Denver:20270910T150000
DTSTAMP:20260419T162636
CREATED:20220903T005740Z
LAST-MODIFIED:20240112T173801Z
UID:10000731-1820581200-1820588400@www.wyomingyarn.com
SUMMARY:Oddballs & Skeins
DESCRIPTION:A free event every Friday where you can bring your projects in and work while chatting with other yarnie friends.  This is an open crafting group that loves to visit about current WIPs (works in progress) as well as show off FOs (Finished Objects).  All crafty types are welcome.  Join us soon!
URL:https://www.wyomingyarn.com/event/knit-group/2027-09-10/
LOCATION:Wyoming Yarn & Fiber\, 901 16th St\, Cody\, WY\, 82414\, United States
CATEGORIES:Gathering
ATTACH;FMTTYPE=image/png:https://www.wyomingyarn.com/wp-content/uploads/2022/09/Oddballs-Skeins.png
ORGANIZER;CN="Wyoming Yarn & Fiber":MAILTO:hello@wyomingyarn.com
END:VEVENT
BEGIN:VEVENT
DTSTART;TZID=America/Denver:20270917T130000
DTEND;TZID=America/Denver:20270917T150000
DTSTAMP:20260419T162636
CREATED:20220903T005740Z
LAST-MODIFIED:20240112T173801Z
UID:10000732-1821186000-1821193200@www.wyomingyarn.com
SUMMARY:Oddballs & Skeins
DESCRIPTION:A free event every Friday where you can bring your projects in and work while chatting with other yarnie friends.  This is an open crafting group that loves to visit about current WIPs (works in progress) as well as show off FOs (Finished Objects).  All crafty types are welcome.  Join us soon!
URL:https://www.wyomingyarn.com/event/knit-group/2027-09-17/
LOCATION:Wyoming Yarn & Fiber\, 901 16th St\, Cody\, WY\, 82414\, United States
CATEGORIES:Gathering
ATTACH;FMTTYPE=image/png:https://www.wyomingyarn.com/wp-content/uploads/2022/09/Oddballs-Skeins.png
ORGANIZER;CN="Wyoming Yarn & Fiber":MAILTO:hello@wyomingyarn.com
END:VEVENT
BEGIN:VEVENT
DTSTART;TZID=America/Denver:20270924T130000
DTEND;TZID=America/Denver:20270924T150000
DTSTAMP:20260419T162636
CREATED:20220903T005740Z
LAST-MODIFIED:20240112T173801Z
UID:10000733-1821790800-1821798000@www.wyomingyarn.com
SUMMARY:Oddballs & Skeins
DESCRIPTION:A free event every Friday where you can bring your projects in and work while chatting with other yarnie friends.  This is an open crafting group that loves to visit about current WIPs (works in progress) as well as show off FOs (Finished Objects).  All crafty types are welcome.  Join us soon!
URL:https://www.wyomingyarn.com/event/knit-group/2027-09-24/
LOCATION:Wyoming Yarn & Fiber\, 901 16th St\, Cody\, WY\, 82414\, United States
CATEGORIES:Gathering
ATTACH;FMTTYPE=image/png:https://www.wyomingyarn.com/wp-content/uploads/2022/09/Oddballs-Skeins.png
ORGANIZER;CN="Wyoming Yarn & Fiber":MAILTO:hello@wyomingyarn.com
END:VEVENT
BEGIN:VEVENT
DTSTART;TZID=America/Denver:20271001T130000
DTEND;TZID=America/Denver:20271001T150000
DTSTAMP:20260419T162636
CREATED:20220903T005740Z
LAST-MODIFIED:20240112T173801Z
UID:10000734-1822395600-1822402800@www.wyomingyarn.com
SUMMARY:Oddballs & Skeins
DESCRIPTION:A free event every Friday where you can bring your projects in and work while chatting with other yarnie friends.  This is an open crafting group that loves to visit about current WIPs (works in progress) as well as show off FOs (Finished Objects).  All crafty types are welcome.  Join us soon!
URL:https://www.wyomingyarn.com/event/knit-group/2027-10-01/
LOCATION:Wyoming Yarn & Fiber\, 901 16th St\, Cody\, WY\, 82414\, United States
CATEGORIES:Gathering
ATTACH;FMTTYPE=image/png:https://www.wyomingyarn.com/wp-content/uploads/2022/09/Oddballs-Skeins.png
ORGANIZER;CN="Wyoming Yarn & Fiber":MAILTO:hello@wyomingyarn.com
END:VEVENT
BEGIN:VEVENT
DTSTART;TZID=America/Denver:20271008T130000
DTEND;TZID=America/Denver:20271008T150000
DTSTAMP:20260419T162636
CREATED:20220903T005740Z
LAST-MODIFIED:20240112T173801Z
UID:10000735-1823000400-1823007600@www.wyomingyarn.com
SUMMARY:Oddballs & Skeins
DESCRIPTION:A free event every Friday where you can bring your projects in and work while chatting with other yarnie friends.  This is an open crafting group that loves to visit about current WIPs (works in progress) as well as show off FOs (Finished Objects).  All crafty types are welcome.  Join us soon!
URL:https://www.wyomingyarn.com/event/knit-group/2027-10-08/
LOCATION:Wyoming Yarn & Fiber\, 901 16th St\, Cody\, WY\, 82414\, United States
CATEGORIES:Gathering
ATTACH;FMTTYPE=image/png:https://www.wyomingyarn.com/wp-content/uploads/2022/09/Oddballs-Skeins.png
ORGANIZER;CN="Wyoming Yarn & Fiber":MAILTO:hello@wyomingyarn.com
END:VEVENT
BEGIN:VEVENT
DTSTART;TZID=America/Denver:20271015T130000
DTEND;TZID=America/Denver:20271015T150000
DTSTAMP:20260419T162636
CREATED:20220903T005740Z
LAST-MODIFIED:20240112T173801Z
UID:10000736-1823605200-1823612400@www.wyomingyarn.com
SUMMARY:Oddballs & Skeins
DESCRIPTION:A free event every Friday where you can bring your projects in and work while chatting with other yarnie friends.  This is an open crafting group that loves to visit about current WIPs (works in progress) as well as show off FOs (Finished Objects).  All crafty types are welcome.  Join us soon!
URL:https://www.wyomingyarn.com/event/knit-group/2027-10-15/
LOCATION:Wyoming Yarn & Fiber\, 901 16th St\, Cody\, WY\, 82414\, United States
CATEGORIES:Gathering
ATTACH;FMTTYPE=image/png:https://www.wyomingyarn.com/wp-content/uploads/2022/09/Oddballs-Skeins.png
ORGANIZER;CN="Wyoming Yarn & Fiber":MAILTO:hello@wyomingyarn.com
END:VEVENT
BEGIN:VEVENT
DTSTART;TZID=America/Denver:20271022T130000
DTEND;TZID=America/Denver:20271022T150000
DTSTAMP:20260419T162636
CREATED:20220903T005740Z
LAST-MODIFIED:20240112T173801Z
UID:10000737-1824210000-1824217200@www.wyomingyarn.com
SUMMARY:Oddballs & Skeins
DESCRIPTION:A free event every Friday where you can bring your projects in and work while chatting with other yarnie friends.  This is an open crafting group that loves to visit about current WIPs (works in progress) as well as show off FOs (Finished Objects).  All crafty types are welcome.  Join us soon!
URL:https://www.wyomingyarn.com/event/knit-group/2027-10-22/
LOCATION:Wyoming Yarn & Fiber\, 901 16th St\, Cody\, WY\, 82414\, United States
CATEGORIES:Gathering
ATTACH;FMTTYPE=image/png:https://www.wyomingyarn.com/wp-content/uploads/2022/09/Oddballs-Skeins.png
ORGANIZER;CN="Wyoming Yarn & Fiber":MAILTO:hello@wyomingyarn.com
END:VEVENT
BEGIN:VEVENT
DTSTART;TZID=America/Denver:20271029T130000
DTEND;TZID=America/Denver:20271029T150000
DTSTAMP:20260419T162636
CREATED:20220903T005740Z
LAST-MODIFIED:20240112T173801Z
UID:10000738-1824814800-1824822000@www.wyomingyarn.com
SUMMARY:Oddballs & Skeins
DESCRIPTION:A free event every Friday where you can bring your projects in and work while chatting with other yarnie friends.  This is an open crafting group that loves to visit about current WIPs (works in progress) as well as show off FOs (Finished Objects).  All crafty types are welcome.  Join us soon!
URL:https://www.wyomingyarn.com/event/knit-group/2027-10-29/
LOCATION:Wyoming Yarn & Fiber\, 901 16th St\, Cody\, WY\, 82414\, United States
CATEGORIES:Gathering
ATTACH;FMTTYPE=image/png:https://www.wyomingyarn.com/wp-content/uploads/2022/09/Oddballs-Skeins.png
ORGANIZER;CN="Wyoming Yarn & Fiber":MAILTO:hello@wyomingyarn.com
END:VEVENT
BEGIN:VEVENT
DTSTART;TZID=America/Denver:20271105T130000
DTEND;TZID=America/Denver:20271105T150000
DTSTAMP:20260419T162636
CREATED:20220903T005740Z
LAST-MODIFIED:20240112T173801Z
UID:10000739-1825419600-1825426800@www.wyomingyarn.com
SUMMARY:Oddballs & Skeins
DESCRIPTION:A free event every Friday where you can bring your projects in and work while chatting with other yarnie friends.  This is an open crafting group that loves to visit about current WIPs (works in progress) as well as show off FOs (Finished Objects).  All crafty types are welcome.  Join us soon!
URL:https://www.wyomingyarn.com/event/knit-group/2027-11-05/
LOCATION:Wyoming Yarn & Fiber\, 901 16th St\, Cody\, WY\, 82414\, United States
CATEGORIES:Gathering
ATTACH;FMTTYPE=image/png:https://www.wyomingyarn.com/wp-content/uploads/2022/09/Oddballs-Skeins.png
ORGANIZER;CN="Wyoming Yarn & Fiber":MAILTO:hello@wyomingyarn.com
END:VEVENT
BEGIN:VEVENT
DTSTART;TZID=America/Denver:20271112T130000
DTEND;TZID=America/Denver:20271112T150000
DTSTAMP:20260419T162636
CREATED:20220903T005740Z
LAST-MODIFIED:20240112T173801Z
UID:10000740-1826024400-1826031600@www.wyomingyarn.com
SUMMARY:Oddballs & Skeins
DESCRIPTION:A free event every Friday where you can bring your projects in and work while chatting with other yarnie friends.  This is an open crafting group that loves to visit about current WIPs (works in progress) as well as show off FOs (Finished Objects).  All crafty types are welcome.  Join us soon!
URL:https://www.wyomingyarn.com/event/knit-group/2027-11-12/
LOCATION:Wyoming Yarn & Fiber\, 901 16th St\, Cody\, WY\, 82414\, United States
CATEGORIES:Gathering
ATTACH;FMTTYPE=image/png:https://www.wyomingyarn.com/wp-content/uploads/2022/09/Oddballs-Skeins.png
ORGANIZER;CN="Wyoming Yarn & Fiber":MAILTO:hello@wyomingyarn.com
END:VEVENT
END:VCALENDAR